BEGIN:VCALENDAR
VERSION:2.0
PRODID:-//Kranichschule Zehdenick - ECPv6.15.20//NONSGML v1.0//EN
CALSCALE:GREGORIAN
METHOD:PUBLISH
X-WR-CALNAME:Kranichschule Zehdenick
X-ORIGINAL-URL:https://kranichschule-zehdenick.de
X-WR-CALDESC:Veranstaltungen für Kranichschule Zehdenick
REFRESH-INTERVAL;VALUE=DURATION:PT1H
X-Robots-Tag:noindex
X-PUBLISHED-TTL:PT1H
BEGIN:VTIMEZONE
TZID:Europe/Berlin
BEGIN:DAYLIGHT
TZOFFSETFROM:+0100
TZOFFSETTO:+0200
TZNAME:CEST
DTSTART:20230326T010000
END:DAYLIGHT
BEGIN:STANDARD
TZOFFSETFROM:+0200
TZOFFSETTO:+0100
TZNAME:CET
DTSTART:20231029T010000
END:STANDARD
BEGIN:DAYLIGHT
TZOFFSETFROM:+0100
TZOFFSETTO:+0200
TZNAME:CEST
DTSTART:20240331T010000
END:DAYLIGHT
BEGIN:STANDARD
TZOFFSETFROM:+0200
TZOFFSETTO:+0100
TZNAME:CET
DTSTART:20241027T010000
END:STANDARD
BEGIN:DAYLIGHT
TZOFFSETFROM:+0100
TZOFFSETTO:+0200
TZNAME:CEST
DTSTART:20250330T010000
END:DAYLIGHT
BEGIN:STANDARD
TZOFFSETFROM:+0200
TZOFFSETTO:+0100
TZNAME:CET
DTSTART:20251026T010000
END:STANDARD
END:VTIMEZONE
BEGIN:VEVENT
DTSTART;VALUE=DATE:20240205
DTEND;VALUE=DATE:20240210
DTSTAMP:20260425T131835
CREATED:20230830T081743Z
LAST-MODIFIED:20230830T081743Z
UID:9173-1707091200-1707523199@kranichschule-zehdenick.de
SUMMARY:Winterferien
DESCRIPTION:
URL:https://kranichschule-zehdenick.de/termin/winterferien-2/
END:VEVENT
BEGIN:VEVENT
DTSTART;VALUE=DATE:20240205
DTEND;VALUE=DATE:20240210
DTSTAMP:20260425T131835
CREATED:20240130T051930Z
LAST-MODIFIED:20240130T051930Z
UID:9378-1707091200-1707523199@kranichschule-zehdenick.de
SUMMARY:Winterferien
DESCRIPTION:
URL:https://kranichschule-zehdenick.de/termin/winterferien-3/
END:VEVENT
BEGIN:VEVENT
DTSTART;TZID=Europe/Berlin:20240207T080000
DTEND;TZID=Europe/Berlin:20240207T150000
DTSTAMP:20260425T131835
CREATED:20240130T052424Z
LAST-MODIFIED:20240130T052424Z
UID:9382-1707292800-1707318000@kranichschule-zehdenick.de
SUMMARY:Schwimmwettkampf
DESCRIPTION:
URL:https://kranichschule-zehdenick.de/termin/schwimmwettkampf/
END:VEVENT
END:VCALENDAR