BEGIN:VCALENDAR
VERSION:2.0
PRODID:-//Kranichschule Zehdenick - ECPv6.15.20//NONSGML v1.0//EN
CALSCALE:GREGORIAN
METHOD:PUBLISH
X-WR-CALNAME:Kranichschule Zehdenick
X-ORIGINAL-URL:https://kranichschule-zehdenick.de
X-WR-CALDESC:Veranstaltungen für Kranichschule Zehdenick
REFRESH-INTERVAL;VALUE=DURATION:PT1H
X-Robots-Tag:noindex
X-PUBLISHED-TTL:PT1H
BEGIN:VTIMEZONE
TZID:Europe/Berlin
BEGIN:DAYLIGHT
TZOFFSETFROM:+0100
TZOFFSETTO:+0200
TZNAME:CEST
DTSTART:20230326T010000
END:DAYLIGHT
BEGIN:STANDARD
TZOFFSETFROM:+0200
TZOFFSETTO:+0100
TZNAME:CET
DTSTART:20231029T010000
END:STANDARD
BEGIN:DAYLIGHT
TZOFFSETFROM:+0100
TZOFFSETTO:+0200
TZNAME:CEST
DTSTART:20240331T010000
END:DAYLIGHT
BEGIN:STANDARD
TZOFFSETFROM:+0200
TZOFFSETTO:+0100
TZNAME:CET
DTSTART:20241027T010000
END:STANDARD
BEGIN:DAYLIGHT
TZOFFSETFROM:+0100
TZOFFSETTO:+0200
TZNAME:CEST
DTSTART:20250330T010000
END:DAYLIGHT
BEGIN:STANDARD
TZOFFSETFROM:+0200
TZOFFSETTO:+0100
TZNAME:CET
DTSTART:20251026T010000
END:STANDARD
END:VTIMEZONE
BEGIN:VEVENT
DTSTART;TZID=Europe/Berlin:20240901T080000
DTEND;TZID=Europe/Berlin:20240901T170000
DTSTAMP:20260420T150203
CREATED:20240901T081844Z
LAST-MODIFIED:20240901T081844Z
UID:9623-1725177600-1725210000@kranichschule-zehdenick.de
SUMMARY:Elternversammlung: Übergang Schule - Beruf
DESCRIPTION:
URL:https://kranichschule-zehdenick.de/termin/elternversammlung-uebergang-schule-beruf-2/
END:VEVENT
BEGIN:VEVENT
DTSTART;TZID=Europe/Berlin:20240902T100000
DTEND;TZID=Europe/Berlin:20240902T110000
DTSTAMP:20260420T150203
CREATED:20240901T081723Z
LAST-MODIFIED:20240901T081723Z
UID:9618-1725271200-1725274800@kranichschule-zehdenick.de
SUMMARY:Einschulung
DESCRIPTION:
URL:https://kranichschule-zehdenick.de/termin/einschulung/
END:VEVENT
BEGIN:VEVENT
DTSTART;VALUE=DATE:20240916
DTEND;VALUE=DATE:20240920
DTSTAMP:20260420T150203
CREATED:20240901T081807Z
LAST-MODIFIED:20240901T081807Z
UID:9620-1726444800-1726790399@kranichschule-zehdenick.de
SUMMARY:Aktive Pause
DESCRIPTION:
URL:https://kranichschule-zehdenick.de/termin/aktive-pause/
END:VEVENT
BEGIN:VEVENT
DTSTART;VALUE=DATE:20240924
DTEND;VALUE=DATE:20240925
DTSTAMP:20260420T150203
CREATED:20240901T081919Z
LAST-MODIFIED:20240901T081919Z
UID:9625-1727136000-1727222399@kranichschule-zehdenick.de
SUMMARY:Rollstuhlbasketball in Berlin
DESCRIPTION:
URL:https://kranichschule-zehdenick.de/termin/rollstuhlbasketball-in-berlin/
END:VEVENT
BEGIN:VEVENT
DTSTART;TZID=Europe/Berlin:20240925T100000
DTEND;TZID=Europe/Berlin:20240925T110000
DTSTAMP:20260420T150203
CREATED:20240901T082005Z
LAST-MODIFIED:20240901T082005Z
UID:9627-1727258400-1727262000@kranichschule-zehdenick.de
SUMMARY:Feierstunde Namensgebung
DESCRIPTION:
URL:https://kranichschule-zehdenick.de/termin/feierstunde-namensgebung/
END:VEVENT
BEGIN:VEVENT
DTSTART;VALUE=DATE:20240926
DTEND;VALUE=DATE:20240927
DTSTAMP:20260420T150203
CREATED:20240901T082042Z
LAST-MODIFIED:20240901T082042Z
UID:9630-1727308800-1727395199@kranichschule-zehdenick.de
SUMMARY:Crosslauf in Bad Freienwalde
DESCRIPTION:
URL:https://kranichschule-zehdenick.de/termin/crosslauf-in-bad-freienwalde/
END:VEVENT
BEGIN:VEVENT
DTSTART;TZID=Europe/Berlin:20240930T170000
DTEND;TZID=Europe/Berlin:20240930T180000
DTSTAMP:20260420T150203
CREATED:20240901T082133Z
LAST-MODIFIED:20240901T082133Z
UID:9633-1727715600-1727719200@kranichschule-zehdenick.de
SUMMARY:Elternversammlung
DESCRIPTION:
URL:https://kranichschule-zehdenick.de/termin/elternversammlung-2/
END:VEVENT
END:VCALENDAR