BEGIN:VCALENDAR
VERSION:2.0
PRODID:-//Kranichschule Zehdenick - ECPv6.15.20//NONSGML v1.0//EN
CALSCALE:GREGORIAN
METHOD:PUBLISH
X-WR-CALNAME:Kranichschule Zehdenick
X-ORIGINAL-URL:https://kranichschule-zehdenick.de
X-WR-CALDESC:Veranstaltungen für Kranichschule Zehdenick
REFRESH-INTERVAL;VALUE=DURATION:PT1H
X-Robots-Tag:noindex
X-PUBLISHED-TTL:PT1H
BEGIN:VTIMEZONE
TZID:Europe/Berlin
BEGIN:DAYLIGHT
TZOFFSETFROM:+0100
TZOFFSETTO:+0200
TZNAME:CEST
DTSTART:20230326T010000
END:DAYLIGHT
BEGIN:STANDARD
TZOFFSETFROM:+0200
TZOFFSETTO:+0100
TZNAME:CET
DTSTART:20231029T010000
END:STANDARD
BEGIN:DAYLIGHT
TZOFFSETFROM:+0100
TZOFFSETTO:+0200
TZNAME:CEST
DTSTART:20240331T010000
END:DAYLIGHT
BEGIN:STANDARD
TZOFFSETFROM:+0200
TZOFFSETTO:+0100
TZNAME:CET
DTSTART:20241027T010000
END:STANDARD
BEGIN:DAYLIGHT
TZOFFSETFROM:+0100
TZOFFSETTO:+0200
TZNAME:CEST
DTSTART:20250330T010000
END:DAYLIGHT
BEGIN:STANDARD
TZOFFSETFROM:+0200
TZOFFSETTO:+0100
TZNAME:CET
DTSTART:20251026T010000
END:STANDARD
END:VTIMEZONE
BEGIN:VEVENT
DTSTART;VALUE=DATE:20241021
DTEND;VALUE=DATE:20241102
DTSTAMP:20260420T150123
CREATED:20240924T101928Z
LAST-MODIFIED:20240924T101928Z
UID:9653-1729468800-1730505599@kranichschule-zehdenick.de
SUMMARY:Herbstferien
DESCRIPTION:
URL:https://kranichschule-zehdenick.de/termin/herbstferien-2/
END:VEVENT
BEGIN:VEVENT
DTSTART;TZID=Europe/Berlin:20241111T080000
DTEND;TZID=Europe/Berlin:20241122T143000
DTSTAMP:20260420T150123
CREATED:20241115T073141Z
LAST-MODIFIED:20241115T073141Z
UID:9765-1731312000-1732285800@kranichschule-zehdenick.de
SUMMARY:Praktikum Berufsbildungsstufe
DESCRIPTION:
URL:https://kranichschule-zehdenick.de/termin/praktikum-berufsbildungsstufe-2/
END:VEVENT
BEGIN:VEVENT
DTSTART;TZID=Europe/Berlin:20241113T080000
DTEND;TZID=Europe/Berlin:20241113T140000
DTSTAMP:20260420T150123
CREATED:20240924T102004Z
LAST-MODIFIED:20240924T102004Z
UID:9655-1731484800-1731506400@kranichschule-zehdenick.de
SUMMARY:Zweifelderballturnier
DESCRIPTION:
URL:https://kranichschule-zehdenick.de/termin/zweifelderballturnier/
END:VEVENT
BEGIN:VEVENT
DTSTART;TZID=Europe/Berlin:20241115T090000
DTEND;TZID=Europe/Berlin:20241115T103000
DTSTAMP:20260420T150123
CREATED:20241115T073215Z
LAST-MODIFIED:20241115T073215Z
UID:9767-1731661200-1731666600@kranichschule-zehdenick.de
SUMMARY:Vorlesetag
DESCRIPTION:
URL:https://kranichschule-zehdenick.de/termin/vorlesetag/
END:VEVENT
BEGIN:VEVENT
DTSTART;TZID=Europe/Berlin:20241129T093000
DTEND;TZID=Europe/Berlin:20241129T113000
DTSTAMP:20260420T150123
CREATED:20240924T102124Z
LAST-MODIFIED:20240924T102124Z
UID:9659-1732872600-1732879800@kranichschule-zehdenick.de
SUMMARY:Weihnachtsmarkt
DESCRIPTION:
URL:https://kranichschule-zehdenick.de/termin/weihnachtsmarkt-2/
END:VEVENT
END:VCALENDAR