BEGIN:VCALENDAR
VERSION:2.0
PRODID:-//Kranichschule Zehdenick - ECPv6.15.20//NONSGML v1.0//EN
CALSCALE:GREGORIAN
METHOD:PUBLISH
X-ORIGINAL-URL:https://kranichschule-zehdenick.de
X-WR-CALDESC:Veranstaltungen für Kranichschule Zehdenick
REFRESH-INTERVAL;VALUE=DURATION:PT1H
X-Robots-Tag:noindex
X-PUBLISHED-TTL:PT1H
BEGIN:VTIMEZONE
TZID:Europe/Berlin
BEGIN:DAYLIGHT
TZOFFSETFROM:+0100
TZOFFSETTO:+0200
TZNAME:CEST
DTSTART:20240331T010000
END:DAYLIGHT
BEGIN:STANDARD
TZOFFSETFROM:+0200
TZOFFSETTO:+0100
TZNAME:CET
DTSTART:20241027T010000
END:STANDARD
BEGIN:DAYLIGHT
TZOFFSETFROM:+0100
TZOFFSETTO:+0200
TZNAME:CEST
DTSTART:20250330T010000
END:DAYLIGHT
BEGIN:STANDARD
TZOFFSETFROM:+0200
TZOFFSETTO:+0100
TZNAME:CET
DTSTART:20251026T010000
END:STANDARD
BEGIN:DAYLIGHT
TZOFFSETFROM:+0100
TZOFFSETTO:+0200
TZNAME:CEST
DTSTART:20260329T010000
END:DAYLIGHT
BEGIN:STANDARD
TZOFFSETFROM:+0200
TZOFFSETTO:+0100
TZNAME:CET
DTSTART:20261025T010000
END:STANDARD
END:VTIMEZONE
BEGIN:VEVENT
DTSTART;VALUE=DATE:20250725
DTEND;VALUE=DATE:20250906
DTSTAMP:20260421T152224
CREATED:20250217T103431Z
LAST-MODIFIED:20250217T103431Z
UID:9856-1753401600-1757116799@kranichschule-zehdenick.de
SUMMARY:Sommerferien
DESCRIPTION:
URL:https://kranichschule-zehdenick.de/termin/sommerferien-3/
END:VEVENT
BEGIN:VEVENT
DTSTART;TZID=Europe/Berlin:20250908T100000
DTEND;TZID=Europe/Berlin:20250908T110000
DTSTAMP:20260421T152224
CREATED:20250702T172401Z
LAST-MODIFIED:20250702T172401Z
UID:9959-1757325600-1757329200@kranichschule-zehdenick.de
SUMMARY:Einschulungsfeier
DESCRIPTION:
URL:https://kranichschule-zehdenick.de/termin/einschulungsfeier-2/
END:VEVENT
BEGIN:VEVENT
DTSTART;TZID=Europe/Berlin:20250922T170000
DTEND;TZID=Europe/Berlin:20250922T183000
DTSTAMP:20260421T152224
CREATED:20250910T113354Z
LAST-MODIFIED:20250910T113354Z
UID:10002-1758560400-1758565800@kranichschule-zehdenick.de
SUMMARY:Elternversammlung
DESCRIPTION:
URL:https://kranichschule-zehdenick.de/termin/elternversammlung-3/
END:VEVENT
BEGIN:VEVENT
DTSTART;TZID=Europe/Berlin:20250930T160000
DTEND;TZID=Europe/Berlin:20250930T170000
DTSTAMP:20260421T152224
CREATED:20250910T113457Z
LAST-MODIFIED:20250910T113551Z
UID:10004-1759248000-1759251600@kranichschule-zehdenick.de
SUMMARY:Elternversammlung Übergang Schule-Beruf
DESCRIPTION:
URL:https://kranichschule-zehdenick.de/termin/landesmeisterschaften-crosslauf-in-bad-freienwalde/
END:VEVENT
END:VCALENDAR